BEGIN:VCALENDAR
METHOD:PUBLISH
VERSION:2.0
PRODID:-//hacksw/handcal//NONSGML v1.0//EN
BEGIN:VEVENT
UID:54d76d7b1aece21e8d7863f66c9a1ebb@EasyPeasyICS.php
DTSTAMP:20260420T140834Z
DTSTART:20200321T143000Z
DTEND:20200501T220000Z
SUMMARY:Now | Ahana Yoga
X-ALT-DESC;FMTTYPE=text/html:<html><body><p>Join us online!&nbsp;NOW I&nbsp;AHANAYOGA&nbsp;</p><p>All of your favorite teachers and classes under one platform:<br />Ahana Power Flow<br />Ahana Flow<br />Ahana Slow Flow<br />Ahana Sculpt<br />Ahana en Espanol<br />Ashtanga<br />Meditation<br />Kirtan<br />Philosophy&nbsp;<br />Drills for strength, handstands and core</p><p>All in amazing video quality with curated playlists<br /><br />Discount code &ldquo; MDDAHANA &ldquo; For 10% off the first three months.&nbsp;</p></body></html>
LOCATION:
URL;VALUE=URI:http://www.miamidesigndistrict.com/
END:VEVENT
END:VCALENDAR