BEGIN:VCALENDAR
METHOD:PUBLISH
VERSION:2.0
PRODID:-//hacksw/handcal//NONSGML v1.0//EN
BEGIN:VEVENT
UID:14f5fedb0669bffb83fbb7bd7965c246@EasyPeasyICS.php
DTSTAMP:20260420T142217Z
DTSTART:20200605T150000Z
DTEND:20200831T230000Z
SUMMARY:Pepe Mar
X-ALT-DESC;FMTTYPE=text/html:<html><body><p>Miami-based artist Pepe Mar is joining Miami Design District&rsquo;s cultural happenings with an exhibition of dynamic assemblage work made in studio. Pepe&rsquo;s art practice is inspired by fashion, pop culture, sub cultural history, and more, which results in colorful and psychedelic mixed media collages, sculptures and installations.&nbsp;&nbsp;Represented by David Castillo Gallery, Pepe&#39;s recent solo exhibition &ldquo;DragonFruit&rdquo; at the Mattress Factory in Pittsburgh received critical acclaim. Himself a fashion icon, you can visit Pepe Mar &quot;in studio&rdquo; at NE 40th Street&rsquo;s 104, opposite OTL, from June 5, 2020.</p></body></html>
LOCATION:161 NE 40th Street 104 (Opposite side of OTL)
URL;VALUE=URI:http://www.miamidesigndistrict.com/
END:VEVENT
END:VCALENDAR