BEGIN:VCALENDAR
METHOD:PUBLISH
VERSION:2.0
PRODID:-//hacksw/handcal//NONSGML v1.0//EN
BEGIN:VEVENT
UID:ebf94ab9d03b3acebb672c4a0f556152@EasyPeasyICS.php
DTSTAMP:20260424T084343Z
DTSTART:20210522T150000Z
DTEND:20210523T220000Z
SUMMARY:Index Miami
X-ALT-DESC;FMTTYPE=text/html:<html><body><p>Index is a 2-day experiential forum that brings art, design and fashion into one space to celebrate the intersection of culture and commerce in Miami.</p><p>A new space for emerging Miami talent, Index lives to engage, share, and inspire. This part fair, part shop, features a juried selection of talented artists, designers, and makers from South Florida, curating local excellence with a global view.</p><p>The Miami edit will focus on a extremely curated selection of items from brands in the Miami and South Florida Area including but not limited to; accessories, clothing, streetwear, ceramics, design goods, furniture, books and more.</p></body></html>
LOCATION:Palm Court Event Space  140 Northeast 39th Street Miami, FL 33137
URL;VALUE=URI:http://www.miamidesigndistrict.com/
END:VEVENT
END:VCALENDAR