BEGIN:VCALENDAR
METHOD:PUBLISH
VERSION:2.0
PRODID:-//hacksw/handcal//NONSGML v1.0//EN
BEGIN:VEVENT
UID:cec71cb240f30b4ee5deb57d484b3ed9@EasyPeasyICS.php
DTSTAMP:20260421T194910Z
DTSTART:20231207T221800Z
DTEND:20231208T001800Z
SUMMARY:Art Exhibit at Ximena Kavalekas
X-ALT-DESC;FMTTYPE=text/html:<html><body><p>Ximena Kavalekas features bronze sculptures by Ada Da Silva and drawings by Paola Celada in their Miami Design District boutique.&nbsp;</p><p>Ada Da Silva the Cuban sculptor masterfully conveys emotional abstractions in her work, inviting art enthusiasts to explore a world where the human form converges with the unpredictable terrain of emotions achieving striking sculptural expressions. Translating dynamic movements into intricate and thought-provoking abstract elements. The outcome is a profound and elegant collection of sculptures that serve as a powerful language to invoke emotion.</p><p>Paola demonstrates a remarkable ability to evoke emotions and tell stories. Her technical finesse is evident in the detail of her work. The meticulous execution reveals a dedication to the craft and a commitment to achieving excellence in both form and function. The marriage of creativity and technicality in Paola&#39;s work goes beyond the dichotomy often imposed on artist. Instead, she integrates these aspects within a single artistic vision.</p></body></html>
LOCATION:
URL;VALUE=URI:http://www.miamidesigndistrict.com/
END:VEVENT
END:VCALENDAR