BEGIN:VCALENDAR
METHOD:PUBLISH
VERSION:2.0
PRODID:-//hacksw/handcal//NONSGML v1.0//EN
BEGIN:VEVENT
UID:9fdfa91f2d6c9469a84c48206ebafc3e@EasyPeasyICS.php
DTSTAMP:20260423T220450Z
DTSTART:20240628T220000Z
DTEND:20240629T010000Z
SUMMARY:Art After Hours
X-ALT-DESC;FMTTYPE=text/html:<html><body><p dir="ltr">Pan American Art Projects, Zilberman | Miami, and The Juan Carlos Maldonado Collection (JCMC) invite you to a Gallery Night in their Design District spaces across 39th St on Friday, June 28th from 6 pm to 8 pm, with early access for Fountainhead Arts members at 5 pm.&nbsp;</p><p dir="ltr"><a href="https://www.miamidesigndistrict.com/listing/1221/pan-american-art-projects/">Pan American Art Projects</a> will be hosting three solo exhibitions: &ldquo;Whispers of Nature&rdquo; featuring Miami-based Argentinian artist Carolina Sardi, &ldquo;Postales del Abismo&rdquo; featuring Cuban artist Juan Carlos Alom, and &ldquo;Impossible Dialogues - Sumerian Disputations&rdquo; featuring Miami-based Cuban artist Sandra Ramos.</p><p dir="ltr"><a href="https://www.miamidesigndistrict.com/listing/1162/zilberman--miami/">Zilberman | Miami</a> will open the group show Young Fresh Different Miami 2024 resulting from an open call for emerging artists based in Florida. These selected artists reflect Florida&#39;s rich diversity and multiculturalism, with their works primarily exploring themes of personal and collective identity, cultural heritage, and self-exploration.&nbsp;&nbsp;</p><p dir="ltr"><a href="https://www.miamidesigndistrict.com/listing/1155/juan-carlos-maldonado-collection/">JCMC </a>will offer a glimpse into their collection through the exhibition &ldquo;The Juan Carlos Maldonado Collection in Time: The Rigor of Geometric Shapes&rdquo; unveiling the dedication of a collector to showcase Geometric Abstraction as a universal artistic language that transcends geographies and cultural backgrounds.</p><p dir="ltr"><a href="/files/files/mdd-artwalk-map-062024.pdf" target="_blank">DOWNLOAD MAP</a></p></body></html>
LOCATION:21, 25 & 45 NE 39th St.
URL;VALUE=URI:http://www.miamidesigndistrict.com/
END:VEVENT
END:VCALENDAR