BEGIN:VCALENDAR
METHOD:PUBLISH
VERSION:2.0
PRODID:-//hacksw/handcal//NONSGML v1.0//EN
BEGIN:VEVENT
UID:b392295e5b6404555c681d36de7572ed@EasyPeasyICS.php
DTSTAMP:20260422T165052Z
DTSTART:20241121T160000Z
DTEND:20241124T230000Z
SUMMARY:Aesop: A gift from us
X-ALT-DESC;FMTTYPE=text/html:<html><body><div><p>In celebration of the season&nbsp;, enjoy a special offer&nbsp;on purchases made at Aesop Design District&nbsp;</p><p>*Exclusions apply.</p></div></body></html>
LOCATION:Aesop, 160 NE 41st St. Suite 120, Miami FL, 33137
URL;VALUE=URI:http://www.miamidesigndistrict.com/
END:VEVENT
END:VCALENDAR