BEGIN:VCALENDAR
METHOD:PUBLISH
VERSION:2.0
PRODID:-//hacksw/handcal//NONSGML v1.0//EN
BEGIN:VEVENT
UID:6f16c5201cb3e5ce3792029762e293f3@EasyPeasyICS.php
DTSTAMP:20260424T084343Z
DTSTART:20241203T160000Z
DTEND:20241208T000000Z
SUMMARY:A.L.C. In-Store Experiences
X-ALT-DESC;FMTTYPE=text/html:<html><body><p>Join us during Art Basel week for an exciting lineup of exclusive in-store experiences! From December 3-7, sip Avaline wine as you explore our latest collection with an all-day wine cart. On December 4-5, from 12-6 PM, discover the magic of your energy field with aura photography guided by Christine Cabreja. Plus, from December 2-7, enjoy a special gift with every in-store purchase, while supplies last. Don&rsquo;t miss out on these unique activations while you shop our newest collection!</p></body></html>
LOCATION:A.L.C.,  90 NE 40th St , Miami Florida, 33137
URL;VALUE=URI:http://www.miamidesigndistrict.com/
END:VEVENT
END:VCALENDAR