BEGIN:VCALENDAR
METHOD:PUBLISH
VERSION:2.0
PRODID:-//hacksw/handcal//NONSGML v1.0//EN
BEGIN:VEVENT
UID:95a6d8189c197407df4a2b3560b552c6@EasyPeasyICS.php
DTSTAMP:20260424T190032Z
DTSTART:20241208T140000Z
DTEND:20241208T163000Z
SUMMARY:Miami Concours: Cars & Coffee
X-ALT-DESC;FMTTYPE=text/html:<html><body><p>Revel in connoisseur cars and coffee. The attention to craft, innovation and product rings true in car, design, and BigFace speciality coffee.</p></body></html>
LOCATION:40 NE 40th Street
URL;VALUE=URI:http://www.miamidesigndistrict.com/
END:VEVENT
END:VCALENDAR