BEGIN:VCALENDAR
METHOD:PUBLISH
VERSION:2.0
PRODID:-//hacksw/handcal//NONSGML v1.0//EN
BEGIN:VEVENT
UID:c783211638e4539ae5bff8efb7111557@EasyPeasyICS.php
DTSTAMP:20260424T185939Z
DTSTART:20241205T233000Z
DTEND:20241206T030000Z
SUMMARY:Opening Reception of  The Beauty of Haiti
X-ALT-DESC;FMTTYPE=text/html:<html><body><p>Join us at the Haitian Heritage Museum on December 5, 2024 at 6:30 pm, for the opening reception of Haitian culture at Art Week- Art Basel 2024.&nbsp;</p></body></html>
LOCATION:Haitian Heritage Museum, 4141 NE 2nd Ave #105C, Miami Florida, 33137
URL;VALUE=URI:http://www.miamidesigndistrict.com/
END:VEVENT
END:VCALENDAR