BEGIN:VCALENDAR
METHOD:PUBLISH
VERSION:2.0
PRODID:-//hacksw/handcal//NONSGML v1.0//EN
BEGIN:VEVENT
UID:a8f99b9ac70c35ed76aff1f4eb404f20@EasyPeasyICS.php
DTSTAMP:20260422T165052Z
DTSTART:20250307T220000Z
DTEND:20250308T000000Z
SUMMARY:Aesop: Exclusive Fragrance Workshop
X-ALT-DESC;FMTTYPE=text/html:<html><body><div>To mark the release of Aurner&nbsp;Eau de Parfum, guests are cordially invited to step into a sensorial exploration of our latest fragrance.​ Guided by an Aesop fragrance expert, you will navigate your way through the aromatic tensions that make up this unconventional scent, as floral abundance gives way to unexpected discoveries. For the optimum experience of discovery, kindly refrain from applying any perfume beforehand.​</div><div>​</div></body></html>
LOCATION:Aesop, 160 NE 41st St. Suite 120, Miami FL, 33137
URL;VALUE=URI:http://www.miamidesigndistrict.com/
END:VEVENT
END:VCALENDAR