BEGIN:VCALENDAR
METHOD:PUBLISH
VERSION:2.0
PRODID:-//hacksw/handcal//NONSGML v1.0//EN
BEGIN:VEVENT
UID:1540f6eaa15be9ce8f68563c9dabaece@EasyPeasyICS.php
DTSTAMP:20260422T170035Z
DTSTART:20250604T150000Z
DTEND:20250608T230000Z
SUMMARY:The Aesop Queer Reading Room
X-ALT-DESC;FMTTYPE=text/html:<html><body><div>&nbsp;The Aesop Queer Library is about to reopen its doors. The 2025 edition celebrates the vibrant vocabularies crafted by LGBTQIA2S+ communities and showcases&nbsp;the power of language as both a shelter and a declaration of defiance. This year we are again supporting the American Civil Liberties Union Foundation&mdash;an organization instrumental in advocating for freedom of speech and expression. &nbsp;</div><div>&nbsp;</div><div>Guests are invited to Aesop Design District to select a complimentary book to take home&mdash;no purchase required&mdash;while supplies last.</div><p>&nbsp;</p></body></html>
LOCATION:Aesop, 160 NE 41st St. Suite 120, Miami FL, 33137
URL;VALUE=URI:http://www.miamidesigndistrict.com/
END:VEVENT
END:VCALENDAR