BEGIN:VCALENDAR
METHOD:PUBLISH
VERSION:2.0
PRODID:-//hacksw/handcal//NONSGML v1.0//EN
BEGIN:VEVENT
UID:ed16f36d7f44b8592430aeba3078a944@EasyPeasyICS.php
DTSTAMP:20260419T163454Z
DTSTART:20250628T230000Z
DTEND:20250629T030000Z
SUMMARY:Roll into Pride
X-ALT-DESC;FMTTYPE=text/html:<html><body><p>Get ready to roll into a night of glitter, grooves, and pure joy at the&nbsp;Pride Roller Skating Party&nbsp;hosted in collaboration with&nbsp;All Skates Go to Heaven. Taking place on&nbsp;Saturday, June 28 from 7 to 10 PM&nbsp;at&nbsp;Jungle Plaza , this celebration invites the community to dress in their most vibrant Pride looks and skate the night away under the stars.With high-energy music by and good vibes all around, it promises to be an unforgettable evening. Limited skate rentals will be available, and admission is free with RSVP. Presented by the&nbsp;Miami Design District, this is Pride done with flair&mdash;on wheels!</p><p data-end="84" data-start="0" style="font-style: normal; font-variant-caps: normal; caret-color: rgb(0, 0, 0); color: rgb(0, 0, 0);">Bring your rollerskates or rollerblades&mdash;all wheels and all levels are welcome!</p><p data-end="262" data-start="86">Enjoy music by DJ Hottpants,&nbsp;food trucks, and a curated selection of local vendors. Explore branded items from All Skates Go To Heaven, Farradas Knits, Roller Squid, and more.Exciting prizes will be provided by Soda Shoes and Impala.Don&#39;t miss the&nbsp;Ball Runway Show at 9PM, featuring showstopping looks, voguing, and bold runway moments that celebrate the legacy and artistry of LGBTQ+ communities.</p><p data-end="262" data-start="86" style="font-style: normal; font-variant-caps: normal; caret-color: rgb(0, 0, 0); color: rgb(0, 0, 0);"><strong>With thanks to our event partners:</strong><br data-end="671" data-start="668" />Miami Roller Rink<br data-end="691" data-start="688" />Soda Shoes<br data-end="704" data-start="701" />Impala<br data-end="713" data-is-only-node="" data-start="710" />Smartwater<br data-end="726" data-start="723" />Sobe Rollers<br data-end="741" data-start="738" />Rollerblade<br data-end="755" data-start="752" />Simply Pop</p></body></html>
LOCATION:Jungle Plaza, 3801 NE 1st Ave , Miami FL, 33137
URL;VALUE=URI:http://www.miamidesigndistrict.com/
END:VEVENT
END:VCALENDAR