BEGIN:VCALENDAR
METHOD:PUBLISH
VERSION:2.0
PRODID:-//hacksw/handcal//NONSGML v1.0//EN
BEGIN:VEVENT
UID:e9161a4adaa92dd304ac9fff37197e05@EasyPeasyICS.php
DTSTAMP:20260424T163201Z
DTSTART:20250627T150000Z
DTEND:20250727T230000Z
SUMMARY:Alexander Wang introducing: locked in
X-ALT-DESC;FMTTYPE=text/html:<html><body><p data-end="182" data-start="0">Get it custom at Alexander Wang. Shoppers can leave their mark and unlock exclusive hardware charm customization&mdash;available only in-store at alexanderwang in the Miami Design District. Guests are invited to pick their favorite pre-fall piece, choose a design, and personalize it their way.</p><p data-end="311" data-is-last-node="" data-is-only-node="" data-start="290">&nbsp;</p></body></html>
LOCATION:Alexander Wang, 52 NE 41 St , Miami Florida, 33137
URL;VALUE=URI:http://www.miamidesigndistrict.com/
END:VEVENT
END:VCALENDAR