BEGIN:VCALENDAR
METHOD:PUBLISH
VERSION:2.0
PRODID:-//hacksw/handcal//NONSGML v1.0//EN
BEGIN:VEVENT
UID:99b2b2269519f4ec7ca2135db0531305@EasyPeasyICS.php
DTSTAMP:20260423T184301Z
DTSTART:20250810T220000Z
DTEND:20250811T010000Z
SUMMARY:Ahana Yoga Sound Session
X-ALT-DESC;FMTTYPE=text/html:<html><body><p style="font-style: normal; font-variant-caps: normal; caret-color: rgb(0, 0, 0); color: rgb(0, 0, 0);">Join Lucaz Zaglul for an intimate and immersive sonic experience that transcends the ordinary. Through his unique approach to sound, Lucaz crafts a space where vibration, emotion, and atmosphere converge&mdash;inviting guests to explore deep listening and presence. The evening continues with a thoughtfully curated dinner, offering connection, reflection, and sensory delight.</p><p style="font-style: normal; font-variant-caps: normal; caret-color: rgb(0, 0, 0); color: rgb(0, 0, 0);">Let sound lead the way.</p></body></html>
LOCATION:Ahana Yoga Studio, 43 NE 38 St. , Miami FL, 33137
URL;VALUE=URI:http://www.miamidesigndistrict.com/
END:VEVENT
END:VCALENDAR