BEGIN:VCALENDAR
METHOD:PUBLISH
VERSION:2.0
PRODID:-//hacksw/handcal//NONSGML v1.0//EN
BEGIN:VEVENT
UID:076cef8c2c424e1f9b6d9bad179f8e69@EasyPeasyICS.php
DTSTAMP:20260423T183504Z
DTSTART:20250821T150000Z
DTEND:20250821T230000Z
SUMMARY:The Art of Stacking - designlab22
X-ALT-DESC;FMTTYPE=text/html:<html><body><p>On August 21, Design Lab 22 (35 NE 40th St, Miami) welcomes guests for an exclusive one-on-one styling experience with Rae of Light from Intuitive Adornment. Known for her talent in layering and personal expression, Rae will guide visitors through the art of stacking jewelry&mdash;whether it&rsquo;s earrings, necklaces, rings, or bracelets&mdash;to help each guest curate their own unique look.</p><p><strong>Experience Highlights:</strong></p><ul><li><p>Create intentional, personalized jewelry stacks</p></li><li><p>Discover styling tips and thoughtful combinations</p></li><li><p>Celebrate individual style with Rae&rsquo;s expert guidance</p></li></ul><p><strong>Details:</strong></p><ul><li><p>By appointment only</p></li><li><p>Time slots to be announced soon</p></li></ul><p>This is a moment to design, express, and elevate your style&mdash;one piece at a time.</p></body></html>
LOCATION:
URL;VALUE=URI:http://www.miamidesigndistrict.com/
END:VEVENT
END:VCALENDAR