BEGIN:VCALENDAR
METHOD:PUBLISH
VERSION:2.0
PRODID:-//hacksw/handcal//NONSGML v1.0//EN
BEGIN:VEVENT
UID:ec564263b3b91c5bd43ec103f6932f16@EasyPeasyICS.php
DTSTAMP:20260419T131459Z
DTSTART:20251201T170000Z
DTEND:20251209T000000Z
SUMMARY:Sevan Bıçakçı: Time, Reimagined
X-ALT-DESC;FMTTYPE=text/html:<html><body><p>During Art Basel Miami 2025, master jeweler Sevan Bı&ccedil;ak&ccedil;ı presents eight one-of-a-kind timepieces from his debut watch collection &mdash; nearly a decade in the making. Known for his narrative-driven jewelry, Bı&ccedil;ak&ccedil;ı brings the same spiritual depth to horology. These are not watches of precision, but of reflection &mdash; inviting the wearer to pause and truly feel time. Developed over nine years and crafted in his Istanbul atelier, each of the 85 watches combines poetic artistry with Swiss movement. Inspired by Ottoman-era Mevlevi dervish clockmakers, whose creations embodied devotion over function, Bı&ccedil;ak&ccedil;ı continues their legacy. In this exhibition, time often hides within jeweled landscapes &mdash; an experience of stillness, soul, and timeless vision.</p></body></html>
LOCATION:Sevan Bıçakçı, 151 NE 41 St Suite 141, Miami FL, 33137
URL;VALUE=URI:http://www.miamidesigndistrict.com/
END:VEVENT
END:VCALENDAR