BEGIN:VCALENDAR
METHOD:PUBLISH
VERSION:2.0
PRODID:-//hacksw/handcal//NONSGML v1.0//EN
BEGIN:VEVENT
UID:6ad04aa374e1c7cb6bcb30e9da04ee5c@EasyPeasyICS.php
DTSTAMP:20260423T164652Z
DTSTART:20251220T170000Z
DTEND:20251223T000000Z
SUMMARY:THE ART OF GIVING
X-ALT-DESC;FMTTYPE=text/html:<html><body><p>Join Baccarat for a holiday shopping experience celebrating&nbsp;T<em>he Art of Giving</em>. Enjoy a glass of champagne as you discover thoughtfully curated pieces for everyone on your list - and receive a complimentary Baccarat holiday card, elegantly hand-lettered by our calligrapher.</p><p>RSVP&nbsp;<a href="mailto:baccarat.miami@baccarat.fr">baccarat.miami@baccarat.fr</a></p></body></html>
LOCATION:Baccarat Boutique, 140 NE 39th St. Suite 210, Miami FL, 33137
URL;VALUE=URI:http://www.miamidesigndistrict.com/
END:VEVENT
END:VCALENDAR