BEGIN:VCALENDAR
METHOD:PUBLISH
VERSION:2.0
PRODID:-//hacksw/handcal//NONSGML v1.0//EN
BEGIN:VEVENT
UID:fcf404eb92c851aaadafa5d1937ff16c@EasyPeasyICS.php
DTSTAMP:20260423T184814Z
DTSTART:20260220T010000Z
DTEND:20260220T040000Z
SUMMARY:SOBEWFF: A Taste of Italy presented by Pasta Rummo hosted by Nadia Caterina Munno and Scott Conant
X-ALT-DESC;FMTTYPE=text/html:<html><body><p data-end="142" data-start="0">In celebration of its 25th anniversary, SOBEWFF&nbsp;marks the milestone with an unforgettable evening dedicated to the timeless flavors of Italy.</p><p data-end="609" data-start="144">Guests will experience Italy like never before during this Italian-inspired night of indulgence, hosted by Pasta Rummo and the dynamic Nadia Caterina Munno, also known as @The_PastaQueen. Renowned for her infectious energy, authentic recipes, and passion for la dolce vita, Nadia&mdash;a two-time&nbsp;New York Times&nbsp;and international best-selling author&mdash;will set the stage for a walk-around tasting featuring a dozen all-star chefs serving their favorite Italian creations.</p><p data-end="915" data-start="611">Set under the stars at Jungle Plaza in the Miami Design District, the evening brings together acclaimed chefs offering their unique takes on beloved Italian classics. From bubbly baked pastas to decadent, reimagined dishes, each bite is crafted for effortless al fresco enjoyment and meant to be savored.</p><p data-end="1178" data-is-last-node="" data-is-only-node="" data-start="917">More than a tasting, this event is a celebration of Italian tradition, modern creativity, and the joy of coming together over great food. Guests are invited to bring their appetite, raise a glass, and toast to 25 years of unforgettable flavors at SOBEWFF.</p></body></html>
LOCATION:Jungle Plaza, 3801 NE 1st Ave , Miami FL, 33137
URL;VALUE=URI:http://www.miamidesigndistrict.com/
END:VEVENT
END:VCALENDAR