BEGIN:VCALENDAR
METHOD:PUBLISH
VERSION:2.0
PRODID:-//hacksw/handcal//NONSGML v1.0//EN
BEGIN:VEVENT
UID:c05bfa158a8d0a3e64cd31342779d96c@EasyPeasyICS.php
DTSTAMP:20260424T132751Z
DTSTART:20260226T120000Z
DTEND:20260227T044500Z
SUMMARY:Ride with the Champions 2026
X-ALT-DESC;FMTTYPE=text/html:<html><body><p>BODY MIND &amp; DESIGN</p><p>Join Leanda Cave &amp; Mari Holden for a&nbsp;Pre-Dolphins Cancer Challenge Shakeout Ride hosted by Rapha!&nbsp;Miami Design District x Rapha Limited Edition Jersey collab by artist Lauren Halsey.&nbsp;</p><p>6:30AM | Registration</p><p>7:00AM | Wheels up</p><p>Free RSVP</p></body></html>
LOCATION:Rapha Racing, 3802 NE 1st Ave. Suite 109, Miami FL, 33137
URL;VALUE=URI:http://www.miamidesigndistrict.com/
END:VEVENT
END:VCALENDAR