BEGIN:VCALENDAR
METHOD:PUBLISH
VERSION:2.0
PRODID:-//hacksw/handcal//NONSGML v1.0//EN
BEGIN:VEVENT
UID:684b9699ee9b67bc82e7dcb4c2c45cd1@EasyPeasyICS.php
DTSTAMP:20260420T142003Z
DTSTART:20260206T171700Z
DTEND:20260207T221700Z
SUMMARY:Prada Valentine's Day
X-ALT-DESC;FMTTYPE=text/html:<html><body><p>Prada is pleased to invite you to discover the Spring Summer 2026 collection. Celebrate Valentine&#39;s Day in the boutique with a special edition Prada chocolate box and live calligraphy to personalize a greeting card.</p></body></html>
LOCATION:Prada, 152 NE 41 St. Suite 112, Miami FL, 33137
URL;VALUE=URI:http://www.miamidesigndistrict.com/
END:VEVENT
END:VCALENDAR