BEGIN:VCALENDAR
METHOD:PUBLISH
VERSION:2.0
PRODID:-//hacksw/handcal//NONSGML v1.0//EN
BEGIN:VEVENT
UID:ed8dc4f56d8b190f52c4491029d5e1d7@EasyPeasyICS.php
DTSTAMP:20260421T164316Z
DTSTART:20260313T142300Z
DTEND:20260316T002300Z
SUMMARY:Stitch Lab: A Collector's Journey
X-ALT-DESC;FMTTYPE=text/html:<html><body><p>Embarking on a new fashion journey this year,&nbsp;Stitch Lab&nbsp;returns to Miami for its highly anticipated ninth edition, inviting guests on&nbsp;A Collector&rsquo;s Journey&ndash;an immersive expedition through spring&rsquo;s most coveted looks. Setting&nbsp;Friday, March 13 through Sunday, March 15, the renowned fashion pop-up and annual shopping experience transforms the space into a curated voyage, where discovery, craftsmanship, and global style unite. The three-day experience will bring together more than 40 of Latin America&rsquo;s leading fashion designers and independent brands, offering a rare direct-to-consumer opportunity designed to feel both exploratory and elevated.</p></body></html>
LOCATION:Paradise Plaza Event Space, 151 NE 41st Street 3rd Floor, Miami FL, 33137
URL;VALUE=URI:http://www.miamidesigndistrict.com/
END:VEVENT
END:VCALENDAR