BEGIN:VCALENDAR
METHOD:PUBLISH
VERSION:2.0
PRODID:-//hacksw/handcal//NONSGML v1.0//EN
BEGIN:VEVENT
UID:ac7368ca518002ac616fa06919b48550@EasyPeasyICS.php
DTSTAMP:20260423T180001Z
DTSTART:20260501T152600Z
DTEND:20260504T002600Z
SUMMARY:TAG Heuer Designed To Win Experience
X-ALT-DESC;FMTTYPE=text/html:<html><body><p>Visit the TAG Heuer Designed to Win Experience at Sweet Bird North in the Miami Design District. Step inside and explore the world of motorsport with an immersive boutique, pit stop challenge and trackside cafe from May 1st&nbsp;- May 3rd, 2026.</p></body></html>
LOCATION:Sweet Bird North, 95 NE 40th Street , Miami Florida, 33137
URL;VALUE=URI:http://www.miamidesigndistrict.com/
END:VEVENT
END:VCALENDAR