BEGIN:VCALENDAR
METHOD:PUBLISH
VERSION:2.0
PRODID:-//hacksw/handcal//NONSGML v1.0//EN
BEGIN:VEVENT
UID:3743e86c0dac837aeeadc195e999971f@EasyPeasyICS.php
DTSTAMP:20260424T204526Z
DTSTART:20260424T144400Z
DTEND:20260601T004400Z
SUMMARY:SPOTLIGHT: JOYCE BILLET
X-ALT-DESC;FMTTYPE=text/html:<html><body><p>Born and raised in Paris, Joyce Billet is a French-American artist based in Miami. Her work&nbsp;employs plywood primarily and challenges the evolutionary trajectory it has undergone in the industrial process.&nbsp;This installation in the Melin atrium includes her sculptural benches and wall sculptures&nbsp;&nbsp;with plants from Fairchild Tropical Botanical Garden.</p><p>The integration of&nbsp;living orchids and sculpted plywood&nbsp;introduces an evolving dimension to the work, underscoring themes of growth, adaptation, and interdependence between the natural and built worlds. By intertwining functional seating and sculptural elements, Billet&rsquo;s work blurs the boundaries between art, design, and environment, encouraging visitors to physically inhabit the work.</p></body></html>
LOCATION:3930 NE 2ND AVE
URL;VALUE=URI:http://www.miamidesigndistrict.com/
END:VEVENT
END:VCALENDAR