BEGIN:VCALENDAR
METHOD:PUBLISH
VERSION:2.0
PRODID:-//hacksw/handcal//NONSGML v1.0//EN
BEGIN:VEVENT
UID:5ccb301606ea7814a96138e820a8a606@EasyPeasyICS.php
DTSTAMP:20260424T222710Z
DTSTART:20260502T145800Z
DTEND:20260503T005800Z
SUMMARY:Y-3 Pit Stop Kiosk
X-ALT-DESC;FMTTYPE=text/html:<html><body><div>On the occasion of Miami Race Weekend, Y-3 presents The Pit Stop Kiosk&mdash;a street-side destination serving complimentary coffee and specialty drinks, shaped by a bespoke sound experience. A moment of pause within the rhythm of the race.</div><div>&nbsp;</div><div>For one day only, stop by, refuel, and shop the limited-edition Y-3 x Mercedes-AMG PETRONAS Formula 1 Team collection, available for purchase on site.</div></body></html>
LOCATION:Paradise Plaza, 151 NE 41st St
URL;VALUE=URI:http://www.miamidesigndistrict.com/
END:VEVENT
END:VCALENDAR