BEGIN:VCALENDAR
METHOD:PUBLISH
VERSION:2.0
PRODID:-//hacksw/handcal//NONSGML v1.0//EN
BEGIN:VEVENT
UID:9e0896a19866190fd40acc335f8814b9@EasyPeasyICS.php
DTSTAMP:20260420T141801Z
DTSTART:20170928T040000Z
DTEND:20171002T040000Z
SUMMARY:Gemy Maloof Trunk Show at Chernaya Bridal
X-ALT-DESC;FMTTYPE=text/html:<html><body><p>Shop the Gemy Maloof Trunk Show at Chernaya Bridal</p></body></html>
LOCATION:Chernaya Bridal House, 4100 NE 2nd Ave Suite 305 Miami, FL 33137
URL;VALUE=URI:http://www.miamidesigndistrict.com/
END:VEVENT
END:VCALENDAR