BEGIN:VCALENDAR
METHOD:PUBLISH
VERSION:2.0
PRODID:-//hacksw/handcal//NONSGML v1.0//EN
BEGIN:VEVENT
UID:558ee9e8283d05502ea9820c27615a2e@EasyPeasyICS.php
DTSTAMP:20260419T133610Z
DTSTART:20171102T040000Z
DTEND:20171104T040000Z
SUMMARY:TOM FORD Made-To-Measure
X-ALT-DESC;FMTTYPE=text/html:<html><body><p>Made-To Measure event November 2nd-4th. Schedule your private appointment with a TOM FORD in-house specialist to experience exceptional craftsmanship and discover the new exclusive selection of one-of-a-kind fabrics. Schedule your appointment at&nbsp;<strong>RSVP: jlp@tomfordinternational.com</strong></p></body></html>
LOCATION:103 NE 39th ST - Tom Ford Boutique
URL;VALUE=URI:http://www.miamidesigndistrict.com/
END:VEVENT
END:VCALENDAR