BEGIN:VCALENDAR
METHOD:PUBLISH
VERSION:2.0
PRODID:-//hacksw/handcal//NONSGML v1.0//EN
BEGIN:VEVENT
UID:478ac7b575fa723cdc82fc98ce7cf32a@EasyPeasyICS.php
DTSTAMP:20260421T164617Z
DTSTART:20171207T050000Z
DTEND:20171207T050000Z
SUMMARY:MAX MARA
X-ALT-DESC;FMTTYPE=text/html:<html><body><p>Join Max Mara for a special evening as they celebrate Wrapped in Luxury, an exhibition featuring icons wearing our signature Max Mara coats. Reception on Thursday, December 7 from 6 to 8 pm.</p><div class="grammarly-disable-indicator">&nbsp;</div></body></html>
LOCATION:106 NE 39th Street Suite 103
URL;VALUE=URI:http://www.miamidesigndistrict.com/
END:VEVENT
END:VCALENDAR